BEGIN:VCALENDAR
VERSION:2.0
PRODID:-//Lega Improvvisazione Firenze - ECPv4.6.11.1//NONSGML v1.0//EN
CALSCALE:GREGORIAN
METHOD:PUBLISH
X-WR-CALNAME:Lega Improvvisazione Firenze
X-ORIGINAL-URL:https://legaimprovvisazionefirenze.it/wordpress
X-WR-CALDESC:Events for Lega Improvvisazione Firenze
BEGIN:VEVENT
DTSTART;TZID=Europe/Rome:20210706T211500
DTEND;TZID=Europe/Rome:20210706T230000
DTSTAMP:20260421T161243
CREATED:20210609T104340Z
LAST-MODIFIED:20210609T104340Z
UID:1798-1625606100-1625612400@legaimprovvisazionefirenze.it
SUMMARY:Rassegna estiva Match amatori - Prato
DESCRIPTION:Lunedì 28 Giugno Match amatori -Casa del popolo di Calenzano ingresso gratuito ore 21:15\nLunedì 5 luglio Match amatori -Circolo mcl la concordia a Calenzano ingresso gratuito ore 21:15\nMartedì 6 luglio ore 21:15\, Officina Giovani piazza Macelli 4\, Prato -ingresso 8 euro\nLunedì 12 luglio Match amatori -Circolo Arci La Vedetta a Settimello ingresso gratuito ore 21:15\nDomenica 25 luglio ore 21:15\, Officina Giovani piazza Macelli 4\, Prato -ingresso 8 euro\nMercoledì 27 luglio Match amatori – Castello di Calenzano -ingresso gratuito\nInfo e prenotazioni al 347.64.95.902 \n
URL:https://legaimprovvisazionefirenze.it/wordpress/event/rassegna-estiva-match-amatori-prato/
LOCATION:Piazza dei Macelli\, 4\, Prato\, Italia
END:VEVENT
END:VCALENDAR