BEGIN:VCALENDAR
VERSION:2.0
PRODID:-//Lega Improvvisazione Firenze - ECPv4.6.11.1//NONSGML v1.0//EN
CALSCALE:GREGORIAN
METHOD:PUBLISH
X-WR-CALNAME:Lega Improvvisazione Firenze
X-ORIGINAL-URL:https://legaimprovvisazionefirenze.it/wordpress
X-WR-CALDESC:Events for Lega Improvvisazione Firenze
BEGIN:VEVENT
DTSTART;TZID=Europe/Rome:20210713T211500
DTEND;TZID=Europe/Rome:20210713T230000
DTSTAMP:20260422T103651
CREATED:20210609T111153Z
LAST-MODIFIED:20210609T111153Z
UID:1810-1626210900-1626217200@legaimprovvisazionefirenze.it
SUMMARY:L’isola delle rose - spettacolo teatrale
DESCRIPTION:Martedì 13 Luglio “L’isola delle rose” di e con Mauro Monni e Giovanni Palanza\nCastello di Calenzano -ingresso gratuito\nInfo e prenotazioni al 347.64.95.902 \n
URL:https://legaimprovvisazionefirenze.it/wordpress/event/lisola-delle-rose-spettacolo-teatrale/
LOCATION:Via dell'Oriolo\, Calenzano (FI)
END:VEVENT
END:VCALENDAR