BEGIN:VCALENDAR
VERSION:2.0
PRODID:-//Lega Improvvisazione Firenze - ECPv4.6.11.1//NONSGML v1.0//EN
CALSCALE:GREGORIAN
METHOD:PUBLISH
X-WR-CALNAME:Lega Improvvisazione Firenze
X-ORIGINAL-URL:https://legaimprovvisazionefirenze.it/wordpress
X-WR-CALDESC:Events for Lega Improvvisazione Firenze
BEGIN:VEVENT
DTSTART;TZID=Europe/Rome:20210630T211500
DTEND;TZID=Europe/Rome:20210630T230000
DTSTAMP:20260420T125633
CREATED:20210609T105400Z
LAST-MODIFIED:20210609T105400Z
UID:1808-1625087700-1625094000@legaimprovvisazionefirenze.it
SUMMARY:Demiscion  - improvvisazione teatrale
DESCRIPTION:Mercoledì 30 Giugno “Demiscion”: spettacolo di improvvisazione teatrale con Alfredo Cavazzoni Giovanni Palanza e Mauro Monni\nal teatro Carlo Monni a Campi Bisenzio\nore 21:15\, ingresso 12 euro  \n
URL:https://legaimprovvisazionefirenze.it/wordpress/event/demiscion-improvvisazione-teatrale/
LOCATION:Piazza Dante\, 23\, Campi Bisenzio (FI)\, 50013\, Italia
END:VEVENT
END:VCALENDAR